BEGIN:VCALENDAR
PRODID:-//dvv-bw.de//dvv.Portalplattform//DE
VERSION:2.0
METHOD:PUBLISH
BEGIN:VEVENT
DTSTART:20260516T123000Z
DTEND:20260516T143000Z
DTSTAMP:20260424T111535Z
UID:34780551-34780451-1778882400000
SUMMARY:Eröffnung Lyrikpfad im Kurpark Waldbronn
LOCATION:Kurpark
DESCRIPTION:Gedichte beim Spazieren entdecken – das ist die Idee beim Waldbronner Lyrikpfad\, der von Mitte Mai bis Ende Oktober 2026 im Waldbronner Kurpark aufgebaut sein wird.- Eröffnung im Kurparkpavillon
CLASS:PUBLIC
X-ALT-DESC;FMTTYPE=text/html:Gedichte beim Spazieren entdecken &ndash; das ist die Idee beim Waldbronner Lyrikpfad\, der von Mitte Mai bis Ende Oktober 2026 im Waldbronner Kurpark aufgebaut sein wird.- Eröffnung im Kurparkpavillon
END:VEVENT
END:VCALENDAR
