BEGIN:VCALENDAR
PRODID:-//dvv-bw.de//dvv.Portalplattform//DE
VERSION:2.0
METHOD:PUBLISH
BEGIN:VEVENT
DTSTART:20260424T170000Z
DTEND:20260424T210000Z
DTSTAMP:20260420T184726Z
UID:35033302-35033202-1776981600000
SUMMARY:Mission In Black (Album Release Show) + Undertow
LOCATION:Soundcheck One / One Club, Fabrikstr. 94
DESCRIPTION:MISSION IN BLACK\nSeit 2010 steht die Band aus Baden-Württemberg für kompromisslosen Melodic Death Metal mit Thrash-Einflüssen. Druckvolle Härte trifft auf epische Melodie und eine intensive Live-Energie. Frontfrau Steffi Stuber\, bekannt aus The Voice of Germany\, verleiht dem Sound eine markante Stimme.\nMit Anthems Of A Dying Breed und dem von Sebastian „Seeb“ Levermann produzierten Profit Reigns Supreme (2023) erspielte sich die Band internationale Aufmerksamkeit. Am 24.04.2026 erscheint das neue Album Divinity Of Lies – Release-Show im Soundcheck One.\n\nUNDERTOW\nSeit 1993 eine feste Größe im deutschen Metal: UNDERTOW verbinden Doom\, Sludge\, Groove und Thrash zu einem kompromisslosen\, druckvollen Sound.\nMit Bipolar (2022) erreichten sie Top-Platzierungen (u. a. Metal Hammer Soundcheck). Über 700 Shows mit Acts wie Volbeat\, Testament oder Kreator sprechen für sich – eine echte Live-Institution.
CLASS:PUBLIC
X-ALT-DESC;FMTTYPE=text/html:MISSION IN BLACK<br>Seit 2010 steht die Band aus Baden-Württemberg für kompromisslosen Melodic Death Metal mit Thrash-Einflüssen. Druckvolle Härte trifft auf epische Melodie und eine intensive Live-Energie. Frontfrau Steffi Stuber\, bekannt aus The Voice of Germany\, verleiht dem Sound eine markante Stimme.<br>Mit Anthems Of A Dying Breed und dem von Sebastian &bdquo;Seeb&ldquo; Levermann produzierten Profit Reigns Supreme (2023) erspielte sich die Band internationale Aufmerksamkeit. Am 24.04.2026 erscheint das neue Album Divinity Of Lies &ndash; Release-Show im Soundcheck One.<br><br>UNDERTOW<br>Seit 1993 eine feste Größe im deutschen Metal: UNDERTOW verbinden Doom\, Sludge\, Groove und Thrash zu einem kompromisslosen\, druckvollen Sound.<br>Mit Bipolar (2022) erreichten sie Top-Platzierungen (u. a. Metal Hammer Soundcheck). Über 700 Shows mit Acts wie Volbeat\, Testament oder Kreator sprechen für sich &ndash; eine echte Live-Institution.
END:VEVENT
END:VCALENDAR
