BEGIN:VCALENDAR
PRODID:-//dvv-bw.de//dvv.Portalplattform//DE
VERSION:2.0
METHOD:PUBLISH
BEGIN:VEVENT
DTSTART:20260504T090000Z
DTEND:20260504T100000Z
DTSTAMP:20260424T173615Z
UID:35132802-35132901-1777845600000
SUMMARY:Offenes Zirkeltraining für Seniorinnen
DESCRIPTION:Einfach vorbeikommen und ausprobieren: Unser offenes Zirkeltraining richtet sich speziell an Seniorinnen\, die etwas für ihre Kraft\, Beweglichkeit und ihr Wohlbefinden tun möchten – in ihrem eigenen Tempo.\nDas Angebot ist kostenlos und unverbindlich.Keine Verpflichtung\, keine Vorkenntnisse nötig.\nIm Fokus stehen leichte\, effektive Übungen\, die den Körper stärken und den Alltag spürbar erleichtern.
CLASS:PUBLIC
X-ALT-DESC;FMTTYPE=text/html:Einfach vorbeikommen und ausprobieren: Unser offenes Zirkeltraining richtet sich speziell an Seniorinnen\, die etwas für ihre Kraft\, Beweglichkeit und ihr Wohlbefinden tun möchten &ndash; in ihrem eigenen Tempo.<br>Das Angebot ist kostenlos und unverbindlich.Keine Verpflichtung\, keine Vorkenntnisse nötig.<br>Im Fokus stehen leichte\, effektive Übungen\, die den Körper stärken und den Alltag spürbar erleichtern.
END:VEVENT
END:VCALENDAR
