BEGIN:VCALENDAR
PRODID:-//dvv-bw.de//dvv.Portalplattform//DE
VERSION:2.0
METHOD:PUBLISH
BEGIN:VEVENT
DTSTART:20260517T063600Z
DTEND:20260517T083600Z
DTSTAMP:20260420T135116Z
UID:34429507-34429407-1778968800000
SUMMARY:Verliebt\, verlobt\, ver…
DESCRIPTION:Verliebt\, verlobt\, ver…Anfahrt: 08.36 Bahnhof Reichenbach (S 11)
CLASS:PUBLIC
X-ALT-DESC;FMTTYPE=text/html:Verliebt, verlobt, ver&hellip;Anfahrt: 08.36 Bahnhof Reichenbach (S 11)
END:VEVENT
END:VCALENDAR
