BEGIN:VCALENDAR
PRODID:-//dvv-bw.de//dvv.Portalplattform//DE
VERSION:2.0
METHOD:PUBLISH
BEGIN:VEVENT
DTSTART:20260506T120000Z
DTEND:20260506T160000Z
DTSTAMP:20260424T174340Z
UID:35132801-35132900-1778018400000
SUMMARY:Wandern mit der Rheumaliga
LOCATION:Gelände neben der Festhalle
DESCRIPTION:Wanderung zum Golfplatz Batzenhof mit Einkehr
CLASS:PUBLIC
X-ALT-DESC;FMTTYPE=text/html:Wanderung zum Golfplatz Batzenhof mit Einkehr
END:VEVENT
END:VCALENDAR
