BEGIN:VCALENDAR
PRODID:-//dvv-bw.de//dvv.Portalplattform//DE
VERSION:2.0
METHOD:PUBLISH
BEGIN:VEVENT
DTSTART:20260425T170000Z
DTEND:20260425T200000Z
DTSTAMP:20260420T101308Z
UID:35033303-35033203-1777068000000
SUMMARY:Whiteshake feat. David Readman - Whitesnake MASTERPIECES
LOCATION:Soundcheck One / One Club, Fabrikstr. 94
DESCRIPTION:Whiteshake bringen die größten Whitesnake-Hits sowie selten gespielte Klassiker kraftvoll auf die Bühne. Im Zentrum steht David Readman (Pink Cream 69\, Voodoo Circle)\, der mit starker Stimme und Präsenz den Songs neues Leben verleiht.\nDie energiegeladene Band liefert authentischen Hardrock-Sound der 70er und 80er – detailverliebt\, druckvoll und mit spürbarer Leidenschaft. Klassiker wie „Blindman“ oder „Looking for Love“ machen die Show zu einem besonderen Erlebnis für alle Rockfans.
CLASS:PUBLIC
X-ALT-DESC;FMTTYPE=text/html:Whiteshake bringen die größten Whitesnake-Hits sowie selten gespielte Klassiker kraftvoll auf die Bühne. Im Zentrum steht David Readman (Pink Cream 69\, Voodoo Circle)\, der mit starker Stimme und Präsenz den Songs neues Leben verleiht.<br>Die energiegeladene Band liefert authentischen Hardrock-Sound der 70er und 80er &ndash; detailverliebt\, druckvoll und mit spürbarer Leidenschaft. Klassiker wie &bdquo;Blindman&ldquo; oder &bdquo;Looking for Love&ldquo; machen die Show zu einem besonderen Erlebnis für alle Rockfans.
END:VEVENT
END:VCALENDAR
